BEGIN:VCALENDAR
VERSION:2.0
PRODID:-//Lauren Rose Albert Foundation - ECPv4.6.24.1//NONSGML v1.0//EN
CALSCALE:GREGORIAN
METHOD:PUBLISH
X-WR-CALNAME:Lauren Rose Albert Foundation
X-ORIGINAL-URL:https://www.laurenslegacy.org
X-WR-CALDESC:Events for Lauren Rose Albert Foundation
BEGIN:VEVENT
DTSTART;TZID=UTC+0:20160929T170000
DTEND;TZID=UTC+0:20160929T200000
DTSTAMP:20260421T090108
CREATED:20160912T051959Z
LAST-MODIFIED:20160912T051959Z
UID:15709-1475168400-1475179200@www.laurenslegacy.org
SUMMARY:Special Evening at Talbots in the Promenade Shopping Center to Support Mothers Matter
DESCRIPTION:LOOK good\nFEEL good\nDo good TOGETHER \nJoin us September 29th from 5-8PM for a special evening at Talbots at the Promenade at Sagemore in Marlton to support Mothers Matter. \nPlease stop by and check out the new fall line at Talbots. \nTalbots will donate 10% of all purchases to Mothers Matter. \n
URL:https://www.laurenslegacy.org/event/special-evening-at-talbots/
LOCATION:Talbots at The Promenade at Sagemore\, 500 Route 73 South\, Marlton\, NJ\, 08053\, United States
CATEGORIES:Indoors
ATTACH;FMTTYPE=image/png:https://www.laurenslegacy.org/wp-content/uploads/2016/09/talbots-promenade-marlton-nj.png
ORGANIZER;CN="Susan%20Rose":MAILTO:susanrose@laurenslegacy.org
END:VEVENT
END:VCALENDAR