BEGIN:VCALENDAR
VERSION:2.0
PRODID:-//Lauren Rose Albert Foundation - ECPv4.6.24.1//NONSGML v1.0//EN
CALSCALE:GREGORIAN
METHOD:PUBLISH
X-WR-CALNAME:Lauren Rose Albert Foundation
X-ORIGINAL-URL:https://www.laurenslegacy.org
X-WR-CALDESC:Events for Lauren Rose Albert Foundation
BEGIN:VEVENT
DTSTART;TZID=UTC+0:20160401T110000
DTEND;TZID=UTC+0:20160401T150000
DTSTAMP:20260421T142515
CREATED:20160308T002354Z
LAST-MODIFIED:20160308T002524Z
UID:15137-1459508400-1459522800@www.laurenslegacy.org
SUMMARY:Rowan College at GC to  Kick Off Mothers Matter Collection Drive
DESCRIPTION:The times of this event are tentative… details to follow. Join Our Foundation to get updates. \n
URL:https://www.laurenslegacy.org/event/rowan-college-at-gc-to-kick-off-mothers-matter-collection-drive/
LOCATION:Rowan College\, 201 Mullica Hill Road\, Glassboro\, NJ\, 08028
CATEGORIES:Indoors,Outdoors
ATTACH;FMTTYPE=image/jpeg:https://www.laurenslegacy.org/wp-content/uploads/2016/03/event-cover-rowan-college-2.jpg
ORGANIZER;CN="Susan%20Rose":MAILTO:susanrose@laurenslegacy.org
END:VEVENT
END:VCALENDAR