BEGIN:VCALENDAR
VERSION:2.0
PRODID:-//Lauren Rose Albert Foundation - ECPv4.6.24.1//NONSGML v1.0//EN
CALSCALE:GREGORIAN
METHOD:PUBLISH
X-WR-CALNAME:Lauren Rose Albert Foundation
X-ORIGINAL-URL:https://www.laurenslegacy.org
X-WR-CALDESC:Events for Lauren Rose Albert Foundation
BEGIN:VEVENT
DTSTART;TZID=UTC+0:20160405T170000
DTEND;TZID=UTC+0:20160405T210000
DTSTAMP:20260421T142806
CREATED:20160315T052331Z
LAST-MODIFIED:20160322T181353Z
UID:15387-1459875600-1459890000@www.laurenslegacy.org
SUMMARY:NAWBO Night at Mothers Matter
DESCRIPTION:Members of the National Association of Women Business Owners of Southern NJ (NAWBO) will hold their April Mixer at Mothers Matter Headquarters\, co-hosted by the wonderful Cupcake Lady Ruth Levitt Scott of Cupcakes by Ruth. The NAWBO members will be bringing donations for our Mothers Matter gift bags and will help some assemble some beautiful gifts for women in need. \n\nReserve Your Ticket \n
URL:https://www.laurenslegacy.org/event/nawbo-night-at-mothers-matter/
LOCATION:Mothers Matter Headquarters\, 3 McClure Drive\, Sewell\, NJ\, 08080
CATEGORIES:Indoors
ATTACH;FMTTYPE=image/jpeg:https://www.laurenslegacy.org/wp-content/uploads/2016/02/mm-gifts-2015-head-quarters-welcome-NAWBO-to-mothers-matter.jpg
ORGANIZER;CN="Susan%20Rose":MAILTO:susanrose@laurenslegacy.org
END:VEVENT
END:VCALENDAR