BEGIN:VCALENDAR
VERSION:2.0
PRODID:-//Lauren Rose Albert Foundation - ECPv4.6.24.1//NONSGML v1.0//EN
CALSCALE:GREGORIAN
METHOD:PUBLISH
X-WR-CALNAME:Lauren Rose Albert Foundation
X-ORIGINAL-URL:https://www.laurenslegacy.org
X-WR-CALDESC:Events for Lauren Rose Albert Foundation
BEGIN:VEVENT
DTSTART;TZID=UTC-5:20170315T110000
DTEND;TZID=UTC-5:20170315T110000
DTSTAMP:20260421T044514
CREATED:20170227T051649Z
LAST-MODIFIED:20171207T082554Z
UID:16941-1489575600-1489575600@www.laurenslegacy.org
SUMMARY:Audubon Interact Club Visits Mother Matter
DESCRIPTION:\n					\n						Audubon Interact Club members will deliver their Mother’s Day Collection Donations and volunteer their time at Mothers Matter helping sort products and assembly Mother’s Day Gifts. \n\n\n					\n				\n
URL:https://www.laurenslegacy.org/event/audubon-interact-club-visits-mother-matter-2017/
LOCATION:Mothers Matter Headquarters\, 3 McClure Drive\, Sewell\, NJ\, 08080
CATEGORIES:Indoors
ATTACH;FMTTYPE=image/jpeg:https://www.laurenslegacy.org/wp-content/uploads/2017/02/Audubon-High-School-Interact-Club.jpg
ORGANIZER;CN="Susan%20Rose":MAILTO:susanrose@laurenslegacy.org
END:VEVENT
END:VCALENDAR