BEGIN:VCALENDAR
VERSION:2.0
PRODID:-//Lauren Rose Albert Foundation - ECPv4.6.24.1//NONSGML v1.0//EN
CALSCALE:GREGORIAN
METHOD:PUBLISH
X-WR-CALNAME:Lauren Rose Albert Foundation
X-ORIGINAL-URL:https://www.laurenslegacy.org
X-WR-CALDESC:Events for Lauren Rose Albert Foundation
BEGIN:VEVENT
DTSTART;TZID=UTC+0:20160316T100000
DTEND;TZID=UTC+0:20160316T130000
DTSTAMP:20260421T171323
CREATED:20160308T000809Z
LAST-MODIFIED:20160308T002626Z
UID:15134-1458122400-1458133200@www.laurenslegacy.org
SUMMARY:Audubon High School Interact Club to visit Mothers Matter
DESCRIPTION:The times of this event are tentative… Every year members of Audubon High School’s Interact Club volunteer at Mothers Matter\, bringing the school’s collection drive donations with them. Join Our Foundation to get updates. \n
URL:https://www.laurenslegacy.org/event/audubon-high-school-interact-club-to-visit-mothers-matter/
LOCATION:Mothers Matter Headquarters\, 3 McClure Drive\, Sewell\, NJ\, 08080
CATEGORIES:Indoors
ATTACH;FMTTYPE=image/jpeg:https://www.laurenslegacy.org/wp-content/uploads/2016/03/event-cover-audubon-high-school-interactive-club.jpg
ORGANIZER;CN="Susan%20Rose":MAILTO:susanrose@laurenslegacy.org
END:VEVENT
END:VCALENDAR