BEGIN:VCALENDAR
VERSION:2.0
PRODID:-//Lauren Rose Albert Foundation - ECPv4.6.24.1//NONSGML v1.0//EN
CALSCALE:GREGORIAN
METHOD:PUBLISH
X-WR-CALNAME:Lauren Rose Albert Foundation
X-ORIGINAL-URL:https://www.laurenslegacy.org
X-WR-CALDESC:Events for Lauren Rose Albert Foundation
BEGIN:VEVENT
DTSTART;TZID=UTC+0:20121021T090000
DTEND;TZID=UTC+0:20121021T220000
DTSTAMP:20260422T033842
CREATED:20160209T050925Z
LAST-MODIFIED:20160310T233620Z
UID:13893-1350810000-1350856800@www.laurenslegacy.org
SUMMARY:2nd Annual Mothers Matter5K Run & Walk
DESCRIPTION:2012 Mothers Matter 5K Run And Walk\nThank you to all who helped make our 2012 Mothers Matter 5K Run and Walk a tremendous success. We look forward to seeing everyone again at this year’s 2013 event. \nRace day was full of excitement from children to adults. Everything went off without a problem and because of events like this we can continue our work of helping mothers facing difficult challenges. \n
URL:https://www.laurenslegacy.org/event/2nd-annual-mothers-matter5k-run-walk/
LOCATION:Washington Lake Park\, 626 Hurffville Crosskeys Road\, Sewell\, NJ\, 08080\, United States
CATEGORIES:Outdoors
ATTACH;FMTTYPE=image/jpeg:https://www.laurenslegacy.org/wp-content/uploads/2016/02/2012-5K-replacement.jpg
ORGANIZER;CN="Susan%20Rose":MAILTO:susanrose@laurenslegacy.org
END:VEVENT
END:VCALENDAR