BEGIN:VCALENDAR
VERSION:2.0
PRODID:-//Lauren Rose Albert Foundation - ECPv4.6.24.1//NONSGML v1.0//EN
CALSCALE:GREGORIAN
METHOD:PUBLISH
X-WR-CALNAME:Lauren Rose Albert Foundation
X-ORIGINAL-URL:https://www.laurenslegacy.org
X-WR-CALDESC:Events for Lauren Rose Albert Foundation
BEGIN:VEVENT
DTSTART;TZID=UTC-5:20170311T110000
DTEND;TZID=UTC-5:20170311T150000
DTSTAMP:20260421T062519
CREATED:20170227T042914Z
LAST-MODIFIED:20171207T082554Z
UID:16931-1489230000-1489244400@www.laurenslegacy.org
SUMMARY:Mothers Matter Open House
DESCRIPTION:\n					\n						Join us to celebrate the kick-off of our 17th year brightening Mother’s Day for women facing difficult challenges. \n\n\n					\n				\n
URL:https://www.laurenslegacy.org/event/2017-mothers-matter-open-house/
LOCATION:Mothers Matter Headquarters\, 3 McClure Drive\, Sewell\, NJ\, 08080
CATEGORIES:Indoors
ATTACH;FMTTYPE=image/png:https://www.laurenslegacy.org/wp-content/uploads/2015/08/mothers-know-best1.png
ORGANIZER;CN="Susan%20Rose":MAILTO:susanrose@laurenslegacy.org
END:VEVENT
END:VCALENDAR