BEGIN:VCALENDAR
VERSION:2.0
PRODID:-//Lauren Rose Albert Foundation - ECPv4.6.24.1//NONSGML v1.0//EN
CALSCALE:GREGORIAN
METHOD:PUBLISH
X-WR-CALNAME:Lauren Rose Albert Foundation
X-ORIGINAL-URL:https://www.laurenslegacy.org
X-WR-CALDESC:Events for Lauren Rose Albert Foundation
BEGIN:VEVENT
DTSTART;TZID=UTC+0:20131115T190000
DTEND;TZID=UTC+0:20131115T230000
DTSTAMP:20260421T230437
CREATED:20160209T044951Z
LAST-MODIFIED:20171207T082555Z
UID:13887-1384542000-1384556400@www.laurenslegacy.org
SUMMARY:Tribute to Senator James Beach
DESCRIPTION:The Lauren Rose Albert Foundation honored Senator James Beach on Friday\, November 15th at a reception held at Tavistock Country Club.  Beach was recognized for his tireless support of the LRAF since its inception and his role helping its founder\, Susan Rose\, carry out her vision for the foundation and help make her dream\, to assist mothers in need a reality. \n \nJack Tarditi\, Managing Director of Conner Strong & Buckelew and former Haddonfield Mayor and Jennifer Dubrow Weiss\, CEO of the Jewish Federation of Southern New Jersey co-chaired the event that attracted more than 300 attendees . \nThe highlight of the evening was a touching – and at times humorous video tribute to the Senator with commentary from family\, friends and colleagues including Jim’s Dad\, Elmer Beach\, long time friend Don Reich\, former Camden County Freeholder Vince Sarubbi\, Esq.\, Samaritan Healthcare & Hospice CEO & President Mary Ann Boccolini\, Conner\, Strong & Buckelew Executive Chairman George Norcross\, ESPN National Correspondant Sal Paolantonio and Frank Messina\, owner of All Risk Property Damage Experts \nTo view our sponsors for the Tribute to Senator James Beach event\, you can click here! \n
URL:https://www.laurenslegacy.org/event/2013-tribute-to-senator-james-beach/
LOCATION:Tavistock Country Club\, 100 Tavistock Lane\, Haddonfield\, NJ\, 08033\, United States
CATEGORIES:Indoors
ATTACH;FMTTYPE=image/jpeg:https://www.laurenslegacy.org/wp-content/uploads/2016/02/tribute-to-senator-james-beach-cover.jpg
ORGANIZER;CN="Susan%20Rose":MAILTO:susanrose@laurenslegacy.org
END:VEVENT
END:VCALENDAR